BEGIN:VCALENDAR
VERSION:2.0
PRODID:-//wp-events-plugin.com//5.99912//EN
TZID:Europe/Berlin
X-WR-TIMEZONE:Europe/Berlin
BEGIN:VEVENT
UID:0-170@ottenbach.albverein.eu
DTSTART;TZID=Europe/Berlin;VALUE=DATE:20261206
DTEND;TZID=Europe/Berlin;VALUE=DATE:20261207
DTSTAMP:20251231T091137Z
URL:https://ottenbach.albverein.eu/events/wanderung-vorankuendigung-2026-1
 2-06/
SUMMARY:Adventswanderung rundum Ottenbach
DESCRIPTION:- Details folgen -\n\nWanderführung: Olaf Ideker
END:VEVENT
BEGIN:VTIMEZONE
TZID:Europe/Berlin
X-LIC-LOCATION:Europe/Berlin
BEGIN:STANDARD
DTSTART:20261025T020000
TZOFFSETFROM:+0200
TZOFFSETTO:+0100
TZNAME:CET
END:STANDARD
END:VTIMEZONE
END:VCALENDAR