BEGIN:VCALENDAR
VERSION:2.0
PRODID:-//wp-events-plugin.com//5.99912//EN
TZID:Europe/Berlin
X-WR-TIMEZONE:Europe/Berlin
BEGIN:VEVENT
UID:0-168@ottenbach.albverein.eu
DTSTART;TZID=Europe/Berlin;VALUE=DATE:20261004
DTEND;TZID=Europe/Berlin;VALUE=DATE:20261005
DTSTAMP:20251231T085704Z
URL:https://ottenbach.albverein.eu/events/wanderung-vorankuendigung-2026-1
 0-04/
SUMMARY:Wanderung Abtsgmünd Turmhagelburg
DESCRIPTION:- Details folgen -\n\nWanderführung: Timo Schlienz
END:VEVENT
BEGIN:VTIMEZONE
TZID:Europe/Berlin
X-LIC-LOCATION:Europe/Berlin
BEGIN:DAYLIGHT
DTSTART:20260329T030000
TZOFFSETFROM:+0100
TZOFFSETTO:+0200
TZNAME:CEST
END:DAYLIGHT
END:VTIMEZONE
END:VCALENDAR