BEGIN:VCALENDAR
VERSION:2.0
PRODID:-//wp-events-plugin.com//5.99912//EN
TZID:Europe/Berlin
X-WR-TIMEZONE:Europe/Berlin
BEGIN:VEVENT
UID:0-166@ottenbach.albverein.eu
DTSTART;TZID=Europe/Berlin;VALUE=DATE:20260802
DTEND;TZID=Europe/Berlin;VALUE=DATE:20260803
DTSTAMP:20251231T084839Z
URL:https://ottenbach.albverein.eu/events/wanderung-vorankuendigung-2026-0
 8-02/
SUMMARY:Wanderung rund um Gerstetten
DESCRIPTION:- Details folgen -\n\nWanderführung: Moni und Karle Frey
END:VEVENT
BEGIN:VTIMEZONE
TZID:Europe/Berlin
X-LIC-LOCATION:Europe/Berlin
BEGIN:DAYLIGHT
DTSTART:20260329T030000
TZOFFSETFROM:+0100
TZOFFSETTO:+0200
TZNAME:CEST
END:DAYLIGHT
END:VTIMEZONE
END:VCALENDAR