BEGIN:VCALENDAR
VERSION:2.0
PRODID:-//wp-events-plugin.com//5.99912//EN
TZID:Europe/Berlin
X-WR-TIMEZONE:Europe/Berlin
BEGIN:VEVENT
UID:0-177@ottenbach.albverein.eu
DTSTART;TZID=Europe/Berlin:20260823T000000
DTEND;TZID=Europe/Berlin:20260823T000000
DTSTAMP:20251231T085029Z
URL:https://ottenbach.albverein.eu/events/wanderung-mit-den-naturfreunden-
 eningen/
SUMMARY:Wanderung mit den Naturfreunden Eningen
DESCRIPTION:- Details folgen -\n\nWanderführung: Claudia und Gerhard Gönn
 inger
END:VEVENT
BEGIN:VTIMEZONE
TZID:Europe/Berlin
X-LIC-LOCATION:Europe/Berlin
BEGIN:DAYLIGHT
DTSTART:20260329T030000
TZOFFSETFROM:+0100
TZOFFSETTO:+0200
TZNAME:CEST
END:DAYLIGHT
END:VTIMEZONE
END:VCALENDAR