BEGIN:VCALENDAR
VERSION:2.0
PRODID:-//wp-events-plugin.com//5.99912//EN
TZID:Europe/Berlin
X-WR-TIMEZONE:Europe/Berlin
BEGIN:VEVENT
UID:0-173@ottenbach.albverein.eu
DTSTART;TZID=Europe/Berlin;VALUE=DATE:20261231
DTEND;TZID=Europe/Berlin;VALUE=DATE:20270101
DTSTAMP:20251231T092900Z
URL:https://ottenbach.albverein.eu/events/silvesterfeier-3/
SUMMARY:Silvesterfeier
DESCRIPTION:in der AV-Hütte
END:VEVENT
BEGIN:VTIMEZONE
TZID:Europe/Berlin
X-LIC-LOCATION:Europe/Berlin
BEGIN:STANDARD
DTSTART:20261025T020000
TZOFFSETFROM:+0200
TZOFFSETTO:+0100
TZNAME:CET
END:STANDARD
END:VTIMEZONE
END:VCALENDAR