BEGIN:VCALENDAR
VERSION:2.0
PRODID:-//wp-events-plugin.com//5.99912//EN
TZID:Europe/Berlin
X-WR-TIMEZONE:Europe/Berlin
BEGIN:VEVENT
UID:543-151@ottenbach.albverein.eu
DTSTART;TZID=Europe/Berlin:20260521T150000
DTEND;TZID=Europe/Berlin:20260521T150000
DTSTAMP:20251208T154517Z
URL:https://ottenbach.albverein.eu/events/kaffeenachmittag-in-der-albverei
 nshuette-2-2026-05-21/
SUMMARY:Kaffeenachmittag in der Albvereinshütte
DESCRIPTION:Am dritten Donnerstag im Monat ist die Albvereinshütte in Otte
 nbach ab 15:00 Uhr geöffnet. Nachmittags gibt es Kaffee und Kuchen und ab
 ends ein herzhaftes Vesper.\n\nMitglieder und Gäste sind herzlich eingela
 den einige gemütliche Stunden in unserer Vereinshütte zu verbringen.\n\n
 Maria Konrad und das Bewirtungsteam\n\n  \nBild: Pixabay
END:VEVENT
BEGIN:VTIMEZONE
TZID:Europe/Berlin
X-LIC-LOCATION:Europe/Berlin
BEGIN:DAYLIGHT
DTSTART:20260329T030000
TZOFFSETFROM:+0100
TZOFFSETTO:+0200
TZNAME:CEST
END:DAYLIGHT
END:VTIMEZONE
END:VCALENDAR