BEGIN:VCALENDAR
VERSION:2.0
PRODID:-//wp-events-plugin.com//5.99912//EN
TZID:Europe/Berlin
X-WR-TIMEZONE:Europe/Berlin
BEGIN:VEVENT
UID:0-171@ottenbach.albverein.eu
DTSTART;TZID=Europe/Berlin;VALUE=DATE:20260516
DTEND;TZID=Europe/Berlin;VALUE=DATE:20260517
DTSTAMP:20251208T155930Z
URL:https://ottenbach.albverein.eu/events/helferfest-2/
SUMMARY:Helferfest
DESCRIPTION:in/an der AV-Hütte
END:VEVENT
BEGIN:VTIMEZONE
TZID:Europe/Berlin
X-LIC-LOCATION:Europe/Berlin
BEGIN:DAYLIGHT
DTSTART:20260329T030000
TZOFFSETFROM:+0100
TZOFFSETTO:+0200
TZNAME:CEST
END:DAYLIGHT
END:VTIMEZONE
END:VCALENDAR