BEGIN:VCALENDAR
VERSION:2.0
PRODID:-//wp-events-plugin.com//5.99912//EN
TZID:Europe/Berlin
X-WR-TIMEZONE:Europe/Berlin
BEGIN:VEVENT
UID:0-182@ottenbach.albverein.eu
DTSTART;TZID=Europe/Berlin;VALUE=DATE:20261126
DTEND;TZID=Europe/Berlin;VALUE=DATE:20261127
DTSTAMP:20251231T091412Z
URL:https://ottenbach.albverein.eu/events/albvereinskegeln-3/
SUMMARY:Albvereinskegeln
DESCRIPTION:Am vierten Donnerstag im Monat findet das Albvereinskegeln der 
 Ortsgruppe Ottenbach statt.\nWer mitkegeln möchte\, kann sich gerne bei G
 ertrud Grupp oder Josef Grupp anmelden.\n\n\nBild: Pixabay
END:VEVENT
BEGIN:VTIMEZONE
TZID:Europe/Berlin
X-LIC-LOCATION:Europe/Berlin
BEGIN:STANDARD
DTSTART:20261025T020000
TZOFFSETFROM:+0200
TZOFFSETTO:+0100
TZNAME:CET
END:STANDARD
END:VTIMEZONE
END:VCALENDAR