BEGIN:VCALENDAR
VERSION:2.0
PRODID:-//wp-events-plugin.com//5.99912//EN
TZID:Europe/Berlin
X-WR-TIMEZONE:Europe/Berlin
BEGIN:VEVENT
UID:0-144@ottenbach.albverein.eu
DTSTART;TZID=Europe/Berlin;VALUE=DATE:20261210
DTEND;TZID=Europe/Berlin;VALUE=DATE:20261211
DTSTAMP:20251231T091656Z
URL:https://ottenbach.albverein.eu/events/albvereinskegeln-2-2026-11-26/
SUMMARY:Albvereinskegeln
DESCRIPTION:- Achtung: Termin wurde vorverlegt -\n\nAm vierten Donnerstag i
 m Monat findet das Albvereinskegeln der Ortsgruppe Ottenbach statt.\nWer m
 itkegeln möchte\, kann sich gerne bei Gertrud Grupp oder Josef Grupp anme
 lden.\n\n\nBild: Pixabay
END:VEVENT
BEGIN:VTIMEZONE
TZID:Europe/Berlin
X-LIC-LOCATION:Europe/Berlin
BEGIN:STANDARD
DTSTART:20261025T020000
TZOFFSETFROM:+0200
TZOFFSETTO:+0100
TZNAME:CET
END:STANDARD
END:VTIMEZONE
END:VCALENDAR