BEGIN:VCALENDAR
VERSION:2.0
PRODID:-//wp-events-plugin.com//5.99912//EN
TZID:Europe/Berlin
X-WR-TIMEZONE:Europe/Berlin
BEGIN:VEVENT
UID:543-142@ottenbach.albverein.eu
DTSTART;TZID=Europe/Berlin;VALUE=DATE:20260924
DTEND;TZID=Europe/Berlin;VALUE=DATE:20260925
DTSTAMP:20251208T154534Z
URL:https://ottenbach.albverein.eu/events/albvereinskegeln-2-2026-09-24/
SUMMARY:Albvereinskegeln
DESCRIPTION:Am vierten Donnerstag im Monat findet das Albvereinskegeln der 
 Ortsgruppe Ottenbach statt.\nWer mitkegeln möchte\, kann sich gerne bei G
 ertrud Grupp oder Josef Grupp anmelden.\n\n\nBild: Pixabay
END:VEVENT
BEGIN:VTIMEZONE
TZID:Europe/Berlin
X-LIC-LOCATION:Europe/Berlin
BEGIN:DAYLIGHT
DTSTART:20260329T030000
TZOFFSETFROM:+0100
TZOFFSETTO:+0200
TZNAME:CEST
END:DAYLIGHT
END:VTIMEZONE
END:VCALENDAR